BEGIN:VCALENDAR
METHOD:PUBLISH
VERSION:2.0
PRODID:-//Eventilla iCal Syndication//NONSGML Liana//EN
BEGIN:VEVENT
UID:1ElWD@eventilla.com
DTSTAMP:20250203T220000Z
DTSTART:20250203T220000Z
DTEND:20250530T210000Z
SUMMARY:Yhteisöllinen työtila Business Kuusamo avoinna tiistaista perjantaihin klo 9-15
DESCRIPTION:Business Kuusamo on avoinna tiistaista perjantaihin klo 9-15 osoitteessa Torangintaival 4\, tervetuloa!\n\n Toimistohuoneita vuokrattavana 270 €/kk (+ alv.).\n\n️ Etätyöhuoneet (3 kpl) ja neuvottelutilat (2 kpl) käytössä veloituksetta pilotointijakson ajan aukioloaikoina.💻\n Torstaisin yhteiset ja kaikille avoimet aamukahvit klo 8.30 alkaen.☕\n Verkostoidu muiden samanhenkisten kanssa liittyen etätyöhön\, yrittäjyyteen ja Kuusamon mahdollisuuksiin. Liity WhatsApp-ryhmään täällä.  🤝🏻\n Aukioloaikoina tiloista löytyy yhteisöpäivystäjä\, jonka tavoittaa numerosta 040 669 7666.📞\nHaluatko vuokrata toimistohuoneen tai useampia kokoaikaisesti? Tutustu tiloihin täällä.13\,5 neliön toimistohuoneen hinta 270 €/kk (+ alv.)\, isommista kokonaisuuksista neuvotellaan erikseen. Lisätietoja vuokrattavista tiloista: Kiinteistöpäällikkö Anne-Kaisa Olva p. 040 543 3044 anne-kaisa.olva@kuusamo.fi\nTiloissa:\n\nAI Fab Lab (ajanvarauksella)\nYrityshautomo\nKuusamo Showroom\nMonipuolisesti tapahtumia\, kaikille avoimet aamukahvit joka torstai klo 8.30 alkaen. Uutena aamukahveilla Torstain testihetki\, missä uutta yritystoimintaa tai ideaa suunnittelevilla on mahdollisuus esitellä tuotteitaan ja palveluitaan osallistujille. Lisätietoa Business Kuusamon yhteisöpäivystäjältä p. 040 669 7666 (arkisin 9-15) / info@naturpolis.fi\n\nVoit työskennellä tiloissa joustavasti tai vuokrata toimistohuoneen käyttöösi kokoaikaisesti.\nInfopuhelin p. 040 669 7666 (ti-pe 9-15)\n \nBusiness Kuusamo on Kuusamon kaupungin ja Naturpoliksen yhteishanke\, jonka tavoitteena on luoda yrityksille ja muille toimijoille moderni\, yhteisöllinen työtila ja tukipalveluverkosto Kuusamon keskustaan.\n
LOCATION:Torangintaival 4\, 93600\, Kuusamo
URL:http://events.naturpolis.fi/businesskuusamo
END:VEVENT
END:VCALENDAR
