BEGIN:VCALENDAR
METHOD:PUBLISH
VERSION:2.0
PRODID:-//Eventilla iCal Syndication//NONSGML Liana//EN
BEGIN:VEVENT
UID:4N2YQ@eventilla.com
DTSTAMP:20260423T140000Z
DTSTART:20260423T140000Z
DTEND:20260423T160000Z
SUMMARY:Luodaan yritykselle Google Business profiili -työpaja Kuusamossa
DESCRIPTION:Luodaan yritykselle Google Business profiili!\nParanna yrityksesi löydettävyyttä verkkohauissa luomalla Google Business profiili! Tule työpajaan joko Taivalkoskelle tai Kuusamoon. Mukaan toivotaan erityisesti maaseutuyrityksiä\, joita ei vielä löydy verkosta!\nGoogle Business profiili auttaa yritystä näkymään paremmin hauissa ja kartassa. Tilaisuudessa opit\, miten luot tilin\, pidät yritystiedot ajan tasalla\, hyödynnät arvosteluja ja kuvia sekä seuraat\, miten asiakkaat löytävät yrityksesi verkossa.\nTyöpajan järjestää Viesselä maaseutu -hanke\, joka on EU:n maaseuturahoituksen osarahoittama.\nOta mukaan oma tietokone. Tilaisuus on maksuton.\nTervetuloa!\nLisätietoja: Leena JokinenprojektipäällikköViesselä maaseutuleena.jokinen@naturpolis.fip. +358 40 702 8009\n
LOCATION:Business Kuusamo, kokoustila 1\, Torangintaival 1\, 93600\,
 Kuusamo
URL:http://events.naturpolis.fi/googlebusinessprofiilikmo
END:VEVENT
END:VCALENDAR
